BEGIN:VCALENDAR
VERSION:2.0
PRODID:-//Jorge Parodi - ECPv4.5.8.1//NONSGML v1.0//EN
CALSCALE:GREGORIAN
METHOD:PUBLISH
X-WR-CALNAME:Jorge Parodi
X-ORIGINAL-URL:http://jorgeparodi.com
X-WR-CALDESC:Events for Jorge Parodi
BEGIN:VEVENT
DTSTART;TZID=UTC+0:20230120T200000
DTEND;TZID=UTC+0:20230122T170000
DTSTAMP:20260418T004832
CREATED:20240319T163415Z
LAST-MODIFIED:20240319T163438Z
UID:1039-1674244800-1674406800@jorgeparodi.com
SUMMARY:Charlie Parker's Yardbird. New Orleans Opera
DESCRIPTION:Maestro Jorge Parodi\, The Jerry W. Zachary and Henry Bernstein Maestro Chair\, debuts at New Orleans Opera with Charlie Parker\, Yardbird\, Schnyder’s opera on the famed jazz musician. The New Orleans Opera debut of Parodi is underwritten by Drs. Nicolas and Haydee Bazan. With the Louisiana Philharmonic Orchestra at the New Orleans Jazz Market. \n
URL:http://jorgeparodi.com/event/charlie-parker-yardbird-new-orleans-opera/
LOCATION:1436 Oretha Castle Haley Blvd\, New Orleans\, LA\, 70113\, United States
ATTACH;FMTTYPE=image/png:http://jorgeparodi.com/wp-content/uploads/2024/03/New-Orleans-Opera-Charlie-Parkers-Yardbird-Image.png
END:VEVENT
END:VCALENDAR