BEGIN:VCALENDAR
VERSION:2.0
PRODID:-//Jorge Parodi - ECPv4.5.8.1//NONSGML v1.0//EN
CALSCALE:GREGORIAN
METHOD:PUBLISH
X-WR-CALNAME:Jorge Parodi
X-ORIGINAL-URL:http://jorgeparodi.com
X-WR-CALDESC:Events for Jorge Parodi
BEGIN:VEVENT
DTSTART;TZID=UTC+0:20190904T080000
DTEND;TZID=UTC+0:20190908T170000
DTSTAMP:20260418T001550
CREATED:20190901T223040Z
LAST-MODIFIED:20231108T151215Z
UID:858-1567584000-1567962000@jorgeparodi.com
SUMMARY:Parodi reprises Pearl Fishers with Opera in Williamsburg
DESCRIPTION:
URL:http://jorgeparodi.com/event/parodi-reprises-pearl-fishers-with-opera-in-williamsburg/
LOCATION:428 W Duke of Gloucester St\, Williamsburg\, VA\, 23185\, United States
ATTACH;FMTTYPE=image/jpeg:http://jorgeparodi.com/wp-content/uploads/2020/01/pearlfishers2019_629-2.jpg
END:VEVENT
END:VCALENDAR